BEGIN:VCALENDAR
VERSION:2.0
PRODID:-//ChamberMaster//Event Calendar 2.0//EN
METHOD:PUBLISH
X-PUBLISHED-TTL:P3D
REFRESH-INTERVAL:P3D
CALSCALE:GREGORIAN
BEGIN:VEVENT
DTSTART:20231006T220000Z
DTEND:20231007T010000Z
X-MICROSOFT-CDO-ALLDAYEVENT:FALSE
SUMMARY:2023 Taste of The Beaches Kickoff
DESCRIPTION:Kickoff our 2023 Taste of The Beaches Event with an evening in the park.\n\n	Live Music\n	Silent Auction \n	Purchase Taste Tickets\n	Beer and Wine will be sold \n\nA portion of all proceeds will go to PARC center for disabilities
X-ALT-DESC;FMTTYPE=text/html:<strong>Kickoff our 2023 Taste of The Beaches Event with an evening in the park.</strong>\n<ul>\n	<li>Live Music</li>\n	<li>Silent Auction&nbsp\;</li>\n	<li>Purchase Taste Tickets</li>\n	<li>Beer and Wine will be sold&nbsp\;</li>\n</ul>\nA portion of all proceeds will go to PARC center for disabilities
LOCATION:Horan Park 7701 Boca Ciega Drive St. Pete Beach\, Fl 33706
UID:e.3561.23149
SEQUENCE:3
DTSTAMP:20260422T145238Z
URL:https://business.tampabaybeaches.com/events/details/2023-taste-of-the-beaches-kickoff-23149
END:VEVENT

END:VCALENDAR
