BEGIN:VCALENDAR
VERSION:2.0
PRODID:-//ChamberMaster//Event Calendar 2.0//EN
METHOD:PUBLISH
X-PUBLISHED-TTL:P3D
REFRESH-INTERVAL:P3D
CALSCALE:GREGORIAN
BEGIN:VEVENT
DTSTART:20240809T120000Z
DTEND:20240809T140000Z
X-MICROSOFT-CDO-ALLDAYEVENT:FALSE
SUMMARY:2024 Honoring Community Leaders Breakfast
DESCRIPTION:Join us for breakfast and meet decision makers in our county and to get inside information on decisions that impact our communities and our businesses. Meet the Candidates\, where you will have the opportunity to connect with several dynamic leaders running for Office. This is your chance to hear directly from the candidates about their visions\, policies\, and plans for our communities future.
X-ALT-DESC;FMTTYPE=text/html:<p style="margin: 0px\; padding: 0px\;"><span style="color: rgb(34\, 34\, 34)\; font-family: Arial\, Helvetica\, sans-serif\; font-size: small\;"><span style="font-size:16px\;"><span style="font-family:tahoma\;">Join us for breakfast and&nbsp\;meet decision makers in our county and to get inside information on decisions that impact our communities and our businesses. Meet the Candidates\, where you will have the opportunity to connect with several dynamic leaders running&nbsp\;for Office. This is your chance to hear directly from the candidates about their visions\, policies\, and plans for our communities future.&nbsp\;</span></span></span><br />\n&nbsp\;</p>\n
LOCATION:Clearwater Beach Marriott Suites on Sand Key
UID:e.3561.24250
SEQUENCE:3
DTSTAMP:20260423T010439Z
URL:https://business.tampabaybeaches.com/events/details/2024-honoring-community-leaders-breakfast-24250
END:VEVENT

END:VCALENDAR
