BEGIN:VCALENDAR
VERSION:2.0
PRODID:-//ChamberMaster//Event Calendar 2.0//EN
METHOD:PUBLISH
X-PUBLISHED-TTL:P3D
REFRESH-INTERVAL:P3D
CALSCALE:GREGORIAN
BEGIN:VEVENT
DTSTART:20241004T220000Z
DTEND:20241005T010000Z
X-MICROSOFT-CDO-ALLDAYEVENT:FALSE
SUMMARY:2024 Taste of The Beaches Kickoff
DESCRIPTION:Kickoff our 2024 Taste of The Beaches Event with an evening in the park.\n\n	Live Music by The Horny Toads\n	Silent Auction \n	Purchase Taste Tickets\n	Beer and Wine will be sold \n\n A portion of all proceeds will go to Big Brothers Big Sisters of Tampa Bay
X-ALT-DESC;FMTTYPE=text/html:<span style="font-size:16px\;"><span style="font-family:tahoma\;"><strong>Kickoff our 2024 Taste of The Beaches Event with an evening in the park.</strong></span></span>\n<ul>\n	<li><span style="font-size:16px\;"><span style="font-family:tahoma\;">Live Music by The Horny Toads</span></span></li>\n	<li><span style="font-size:16px\;"><span style="font-family:tahoma\;">Silent Auction&nbsp\;</span></span></li>\n	<li><span style="font-size:16px\;"><span style="font-family:tahoma\;">Purchase Taste Tickets</span></span></li>\n	<li><span style="font-size:16px\;"><span style="font-family:tahoma\;">Beer and Wine will be sold&nbsp\;</span></span></li>\n</ul>\n<span style="font-size:16px\;"><span style="font-family:tahoma\;"> A portion of all proceeds will go to Big Brothers Big Sisters of Tampa Bay</span></span>
LOCATION:Horan Park 7701 Boca Ciega Drive St. Pete Beach\, Fl 33706
UID:e.3561.25878
SEQUENCE:3
DTSTAMP:20260421T151625Z
URL:https://business.tampabaybeaches.com/events/details/2024-taste-of-the-beaches-kickoff-25878
END:VEVENT

END:VCALENDAR
