BEGIN:VCALENDAR
VERSION:2.0
PRODID:-//ChamberMaster//Event Calendar 2.0//EN
METHOD:PUBLISH
X-PUBLISHED-TTL:P3D
REFRESH-INTERVAL:P3D
CALSCALE:GREGORIAN
BEGIN:VEVENT
DTSTART:20330616T130000Z
DTEND:20330616T140000Z
X-MICROSOFT-CDO-ALLDAYEVENT:FALSE
SUMMARY:2026 North Beaches Business Meeting
DESCRIPTION:Attention all North Beaches Business owners! Hear from your Mayor\, City Manager\, Community Policing and your Chamber at the North Beaches Business Meeting. \n\nLearn about upcoming projects\, ask questions\, provide feedback and be included in important conversations that could impact your business.
X-ALT-DESC;FMTTYPE=text/html:<span style="font-family: tahoma\; font-size: 16px\; background-color: rgb(255\, 255\, 255)\; color: rgb(34\, 34\, 34)\;">Attention all North Beaches Business owners! Hear from your Mayor\, City Manager\, Community Policing and your Chamber at the North Beaches Business Meeting.&nbsp\;</span><br style="background-color: rgb(255\, 255\, 255)\; color: rgb(34\, 34\, 34)\; font-family: Arial\, Helvetica\, sans-serif\; font-size: small\;" />\n<span style="font-family: tahoma\; font-size: 16px\; background-color: rgb(255\, 255\, 255)\; color: rgb(34\, 34\, 34)\;">Learn about upcoming projects\, ask questions\, provide feedback and be included in important conversations that could impact your business.</span>
LOCATION:Belleair Beach Community Center 444 Causeway Blvd Belleair Beach\, Fl 33786
UID:e.3561.28788
SEQUENCE:3
DTSTAMP:20260422T210151Z
URL:https://business.tampabaybeaches.com/events/details/2025-north-beaches-business-meeting-06-16-2033-28788
END:VEVENT

END:VCALENDAR
