BEGIN:VCALENDAR
VERSION:2.0
PRODID:-//ChamberMaster//Event Calendar 2.0//EN
METHOD:PUBLISH
X-PUBLISHED-TTL:P3D
REFRESH-INTERVAL:P3D
CALSCALE:GREGORIAN
BEGIN:VEVENT
DTSTART:20260508T143000Z
DTEND:20260508T170000Z
X-MICROSOFT-CDO-ALLDAYEVENT:FALSE
SUMMARY:2026 National Travel & Tourism Week Brunch
DESCRIPTION:The Tampa Bay Beaches Chamber in Partnership with Visit St Pete Clearwater\n\ninvites you to join us for our National Travel & Tourism Week Brunch\n\n \n\nThis signature event highlights the powerful collaboration between the Chamber and Visit St. Pete-Clearwater the official destination marketing organization for Pinellas County whose leadership continues to drive visitation\, elevate the Tampa Bay Beaches brand\, and create meaningful opportunities for local businesses to connect with visitors and thrive.\n\nBringing together hospitality leaders\, tourism partners\, and business professionals\, the brunch celebrates the partnerships that fuel our region's tourism success.\n\nThis year's program will feature keynote speaker Kourtney Sanchez\, Chief Impact Officer of the Tampa Bay Buccaneers and Executive Director of the Glazer Family Foundation. Through her work alongside the Glazer family\, she has helped advance impactful initiatives supporting small local businesses\, including a $1 million relief fund aiding those recovering from recent hurricanes.\n\nGuests can expect a morning of networking\, industry insights\, brunch and a Business Expo showcasing Chamber members reinforcing the connections that continue to shape the future of tourism across our beaches.\n\n \n\nBUSINESS EXPO: CLICK HERE\n\nSPONSORSHIP OPPORTUNITIES: CLICK HERE
X-ALT-DESC;FMTTYPE=text/html:<p style="text-align: start\; "><span style="font-family:comic sans ms\;"><span style="font-size:26px\;"><em><strong><span style="color:#FFA500\;">The&nbsp\;Tampa Bay Beaches Chamber in Partnership with Visit St Pete Clearwater<br />\ninvites you to join us for our National Travel &amp\; Tourism Week Brunch</span></strong></em></span></span><br />\n&nbsp\;</p>\n\n<p style="background:white"><span style="font-size:16px\;"><span style="font-family:tahoma\;"><span style="color: rgb(34\, 34\, 34)\;">This signature event highlights the powerful collaboration between the Chamber and Visit St. Pete-Clearwater&mdash\;the official destination marketing organization for Pinellas County&mdash\;whose leadership continues to drive visitation\, elevate the Tampa Bay Beaches brand\, and create meaningful opportunities for local businesses to connect with visitors and thrive.</span></span></span><span style="font-family:&quot\;Arial&quot\;\,sans-serif\;\ncolor:#222222"><o:p></o:p></span></p>\n\n<p style="background:white\;font-variant-ligatures: normal\;font-variant-caps: normal\;\norphans: 2\;text-align:start\;widows: 2\;-webkit-text-stroke-width: 0px\;\ntext-decoration-thickness: initial\;text-decoration-style: initial\;text-decoration-color: initial\;\nword-spacing:0px"><span style="font-size:16px\;"><span style="font-family:tahoma\;"><span style="color: rgb(34\, 34\, 34)\;">Bringing together hospitality leaders\, tourism partners\, and business professionals\, the brunch celebrates the partnerships that fuel our region&rsquo\;s tourism success.</span></span></span><span style="font-family:&quot\;Arial&quot\;\,sans-serif\;color:#222222"><o:p></o:p></span></p>\n\n<p style="background:white\;font-variant-ligatures: normal\;font-variant-caps: normal\;\norphans: 2\;text-align:start\;widows: 2\;-webkit-text-stroke-width: 0px\;\ntext-decoration-thickness: initial\;text-decoration-style: initial\;text-decoration-color: initial\;\nword-spacing:0px"><span style="font-size:16px\;"><span style="font-family:tahoma\;"><span style="color: rgb(34\, 34\, 34)\;">This year&rsquo\;s program will feature keynote speaker&nbsp\;<strong>Kourtney Sanchez</strong>\, Chief Impact Officer of the Tampa Bay Buccaneers and Executive Director of the Glazer Family Foundation. Through her work alongside the Glazer family\, she has helped advance impactful initiatives supporting small local businesses\, including a $1 million relief fund aiding those recovering from recent hurricanes.</span></span></span><span style="font-family:&quot\;Arial&quot\;\,sans-serif\;color:#222222"><o:p></o:p></span></p>\n\n<p style="background:white\;font-variant-ligatures: normal\;font-variant-caps: normal\;\norphans: 2\;text-align:start\;widows: 2\;-webkit-text-stroke-width: 0px\;\ntext-decoration-thickness: initial\;text-decoration-style: initial\;text-decoration-color: initial\;\nword-spacing:0px"><span style="font-size:16px\;"><span style="font-family:tahoma\;"><span style="color: rgb(34\, 34\, 34)\;">Guests can expect a morning of networking\, industry insights\,&nbsp\;brunch and a Business Expo showcasing Chamber members&mdash\;reinforcing the connections that continue to shape the future of tourism across our beaches.</span></span></span><span style="font-family:&quot\;Arial&quot\;\,sans-serif\;color:#222222"><o:p></o:p></span></p>\n\n<p dir="ltr" style="line-height:1.295\;margin-top:12pt\;margin-bottom:12pt\;">&nbsp\;</p>\n\n<div><span style="font-family:tahoma\;"><span style="font-size:16px\;"><strong>BUSINESS EXPO:<span style="font-size:18px\;"><u><a href="https://business.tampabaybeaches.com/events/details/2026-business-expo-tourism-brunch-30336"><span style="color:#FFA500\;"> </span></a></u><a href="https://business.tampabaybeaches.com/events/details/2026-business-expo-tourism-brunch-30336"><span style="color:#0000FF\;">CLICK HERE</span></a></span></strong></span></span></div>\n\n<p style="text-align: start\; "><span style="font-family:tahoma\;"><span style="font-size:16px\;"><strong>SPONSORSHIP OPPORTUNITIES: <span style="font-size:18px\;"><a href="https://chambermaster.blob.core.windows.net/userfiles/UserFiles/chambers/3561/File/2026TourismBrunchSponsorships31.pdf"><span style="color:#0000FF\;">CLICK HERE</span></a></span></strong></span></span><br />\n&nbsp\;</p>\n
LOCATION:TradeWinds Resort Island Ballroom 5500 Gulf Blvd St. Pete Beach\, Fl 33706
UID:e.3561.30331
SEQUENCE:3
DTSTAMP:20260424T203203Z
URL:https://business.tampabaybeaches.com/events/details/2026-national-travel-tourism-week-brunch-30331
END:VEVENT

END:VCALENDAR
