BEGIN:VCALENDAR
VERSION:2.0
PRODID:-//ChamberMaster//Event Calendar 2.0//EN
METHOD:PUBLISH
X-PUBLISHED-TTL:P3D
REFRESH-INTERVAL:P3D
CALSCALE:GREGORIAN
BEGIN:VEVENT
DTSTART:20210121T123000Z
DTEND:20210121T140000Z
X-MICROSOFT-CDO-ALLDAYEVENT:FALSE
SUMMARY:BRT - Beaches Referral Team
DESCRIPTION:Contact Tim Johnson tim@waterfrontrealty.com or Gary Eaton topitoffimprints@aol.com to attend or for further information on the committee.\n\n\n\nMeets: 1st Thursday of the month at 7:30 AM (Networking) 8:00 AM - 9:00 AM (Meeting)\n\n\n\nDetails: The BRT is designed to be a motivational and profit generating meeting for executives and sales representatives looking to gain business introductions.\n\n\n\nQualifications for Membership: You must be a member of the Tampa Bay Beaches Chamber of Commerce. No multi tier sales organizations will be allowed as members.  \n\n \nFor planning purposes\, registrations must be canceled within 24 hours of event.  \n\nTBBCoC will be executing this event with the following requirements:\n\n\n	All attendees will have a temperature check before being granted entry\n	All attendees will be need to sign a brief COVID-19 questionnaire\n	Face coverings / masks will be worn at all times with the exception of when seated\n	No walk up attendees will be permitted\, you must pre-register
X-ALT-DESC;FMTTYPE=text/html:Contact Tim Johnson tim@waterfrontrealty.com or Gary Eaton topitoffimprints@aol.com&nbsp\;to attend or for further information on the committee.<br />\n<br />\n<strong style="color: rgb(0\, 0\, 0)\; font-family: &quot\;Open Sans&quot\;\, Arial\, Helvetica\, sans-serif\; font-size: 14px\; box-sizing: border-box\;">Meets:&nbsp\;</strong><span style="color: rgb(0\, 0\, 0)\; font-family: &quot\;Open Sans&quot\;\, Arial\, Helvetica\, sans-serif\; font-size: 14px\;">1st Thursday of the month at&nbsp\;7:30 AM (Networking) 8:00 AM - 9:00 AM (Meeting)</span><br style="color: rgb(0\, 0\, 0)\; font-family: &quot\;Open Sans&quot\;\, Arial\, Helvetica\, sans-serif\; font-size: 14px\; box-sizing: border-box\;" />\n<br />\n<strong style="color: rgb(0\, 0\, 0)\; font-family: &quot\;Open Sans&quot\;\, Arial\, Helvetica\, sans-serif\; font-size: 14px\; box-sizing: border-box\;">Details:&nbsp\;</strong><span style="color: rgb(0\, 0\, 0)\; font-family: &quot\;Open Sans&quot\;\, Arial\, Helvetica\, sans-serif\; font-size: 14px\;">The BRT is designed to be a motivational and profit generating meeting for executives and sales representatives looking to gain business&nbsp\;introductions.</span><br style="color: rgb(0\, 0\, 0)\; font-family: &quot\;Open Sans&quot\;\, Arial\, Helvetica\, sans-serif\; font-size: 14px\; box-sizing: border-box\;" />\n<br />\n<strong style="color: rgb(0\, 0\, 0)\; font-family: &quot\;Open Sans&quot\;\, Arial\, Helvetica\, sans-serif\; font-size: 14px\; box-sizing: border-box\;">Qualifications for Membership:&nbsp\;</strong><span style="color: rgb(0\, 0\, 0)\; font-family: &quot\;Open Sans&quot\;\, Arial\, Helvetica\, sans-serif\; font-size: 14px\;">You must be a member of the Tampa Bay Beaches Chamber of Commerce.&nbsp\;No multi tier sales organizations will be allowed as members.</span>&nbsp\;&nbsp\;<br />\n&nbsp\;\n<p style="box-sizing: border-box\; margin: 0px 0px 1rem\; outline: 0px\; color: rgb(85\, 85\, 85)\; font-family: Raleway\, sans-serif\; font-size: 16px\;"><span style="box-sizing: border-box\; color: rgb(255\, 0\, 0)\; font-family: Roboto\, sans-serif\;">For planning purposes\, registrations must be canceled within 24 hours of event.&nbsp\;&nbsp\;</span></p>\n\n<p style="box-sizing: border-box\; margin: 0px 0px 1rem\; color: rgb(85\, 85\, 85)\; font-family: Raleway\, sans-serif\; font-size: 16px\; outline: 0px\;"><span style="box-sizing: border-box\; font-size: 14px\;"><span style="box-sizing: border-box\; font-family: tahoma\;"><span style="box-sizing: border-box\; color: rgb(255\, 0\, 0)\;"><span style="box-sizing: border-box\; font-weight: bolder\;">TBBCoC will be executing this event with the following requirements:</span></span></span></span></p>\n\n<ul style="box-sizing: border-box\; margin-top: 0px\; margin-bottom: 1rem\; color: rgb(85\, 85\, 85)\; font-family: Raleway\, sans-serif\; font-size: 16px\;">\n	<li style="box-sizing: border-box\; margin: 0px\;"><font color="#ff0000" face="tahoma" style="box-sizing: border-box\;"><span style="box-sizing: border-box\; font-size: 14px\;">All attendees will have a temperature check before being granted entry</span></font></li>\n	<li style="box-sizing: border-box\; margin: 0px\;"><font color="#ff0000" face="tahoma" style="box-sizing: border-box\;"><span style="box-sizing: border-box\; font-size: 14px\;">All attendees will be need to sign a brief COVID-19&nbsp\;questionnaire</span></font></li>\n	<li style="box-sizing: border-box\; margin: 0px\;"><font color="#ff0000" face="tahoma" style="box-sizing: border-box\;"><span style="box-sizing: border-box\; font-size: 14px\;">Face coverings / masks will be worn at all times with the exception of when&nbsp\;seated</span></font></li>\n	<li style="box-sizing: border-box\; margin: 0px\;"><span style="box-sizing: border-box\; font-size: 14px\;"><span style="box-sizing: border-box\; font-family: tahoma\;"><span style="box-sizing: border-box\; color: rgb(255\, 0\, 0)\;">No walk up attendees will be permitted\, you must pre-register</span></span></span></li>\n</ul>\n
LOCATION:Virtual Meeting
UID:e.3561.6942
SEQUENCE:3
DTSTAMP:20260422T103659Z
URL:https://business.tampabaybeaches.com/events/details/brt-beaches-referral-team-6942
END:VEVENT

END:VCALENDAR
