BEGIN:VCALENDAR
VERSION:2.0
PRODID:-//ChamberMaster//Event Calendar 2.0//EN
METHOD:PUBLISH
X-PUBLISHED-TTL:P3D
REFRESH-INTERVAL:P3D
CALSCALE:GREGORIAN
BEGIN:VEVENT
DTSTART:20221129T220000Z
DTEND:20221130T010000Z
X-MICROSOFT-CDO-ALLDAYEVENT:FALSE
SUMMARY:Festival of Trees
DESCRIPTION:Amazing decorated trees and wreaths for auction.\n\nCelebrate a magical time of year. \n\nFree entry. Vote for favorite tree and wreath. Local vendor market. Photo opportunites.  Christmas music. Food and refreshments. Candy cane lane.\n\nFundraiser for Empowered to Change-Human Trafficking/Abuse Survivors. www.enpoweredtochangeint.org
X-ALT-DESC;FMTTYPE=text/html:Amazing decorated trees and wreaths for auction.<br />\nCelebrate a magical time of year.&nbsp\;<br />\nFree entry. Vote for favorite tree and wreath. Local vendor market. Photo opportunites.&nbsp\; Christmas music. Food and refreshments. Candy cane lane.<br />\nFundraiser for Empowered to Change-Human Trafficking/Abuse Survivors. www.enpoweredtochangeint.org<br />\n<br />\n&nbsp\;
LOCATION:At Horan Park. 7701 Boca Ciega Drive\, St Pete Beach\, FL 33706
UID:e.3561.19080
SEQUENCE:3
DTSTAMP:20260423T054047Z
URL:https://business.tampabaybeaches.com/events/details/festival-of-trees-19080
END:VEVENT

END:VCALENDAR
