BEGIN:VCALENDAR
VERSION:2.0
PRODID:-//ChamberMaster//Event Calendar 2.0//EN
METHOD:PUBLISH
X-PUBLISHED-TTL:P3D
REFRESH-INTERVAL:P3D
CALSCALE:GREGORIAN
BEGIN:VEVENT
DTSTART:20241123T220000Z
DTEND:20241124T010000Z
X-MICROSOFT-CDO-ALLDAYEVENT:FALSE
SUMMARY:Festival of Trees 2024 @ Horan Park\, St Pete Beach
DESCRIPTION:Festival of Trees 2024\, Saturday\, November 23\, 2024 5pm-8pm. Horan Park\, 7701 Boca Ciega Drive St Pete Beach\,\n\n\n\nAmazing decorated trees and wreaths for auction!\n\nCelebrate a magical time of year. \n\nFree Entry\n\nVote for your Favorite tree and wreaths\n\nLocal Vendor Market\n\nPhoto Opportunities\n\nHoliday Music\n\nFood & Refreshments\n\nCandy Cane Lane\n\nFundrasier for www.thekindmouse.org\n\nJoin us in the fight against local childhood hunger
X-ALT-DESC;FMTTYPE=text/html:Festival of Trees 2024\, Saturday\, November 23\, 2024 5pm-8pm. Horan Park\, 7701 Boca Ciega Drive St Pete Beach\,<br />\n<br />\nAmazing decorated trees and wreaths for auction!<br />\nCelebrate a magical time of year.&nbsp\;<br />\nFree Entry<br />\nVote for your Favorite tree and wreaths<br />\nLocal Vendor Market<br />\nPhoto Opportunities<br />\nHoliday Music<br />\nFood &amp\; Refreshments<br />\nCandy Cane Lane<br />\nFundrasier for www.thekindmouse.org<br />\nJoin us in the fight against local childhood hunger&nbsp\;
LOCATION:The entire park will light up with the sounds\, sights of the holidays. Vote on your favorite tree or wreath\, get decorating ideas\, meet new friends\, buy a tree or wreath\, shop the local vendors\, picture with Santa\, walk down candy cane lane. Holiday fun for the whole family
UID:e.3561.25692
SEQUENCE:3
DTSTAMP:20260423T010727Z
URL:https://business.tampabaybeaches.com/events/details/festival-of-trees-2024-horan-park-st-pete-beach-25692
END:VEVENT

END:VCALENDAR
