BEGIN:VCALENDAR
VERSION:2.0
PRODID:-//ChamberMaster//Event Calendar 2.0//EN
METHOD:PUBLISH
X-PUBLISHED-TTL:P3D
REFRESH-INTERVAL:P3D
CALSCALE:GREGORIAN
BEGIN:VEVENT
DTSTART:20260410T220000Z
DTEND:20260411T010000Z
X-MICROSOFT-CDO-ALLDAYEVENT:FALSE
SUMMARY:Habitat's Boots on the Beach Gala
DESCRIPTION:Get ready for a night where coastal elegance meets country soul! Join us for an evening blending Nashville spirit with beachside elegance. Enjoy live entertainment\, delicious food and drink\, and hear inspirational stories of hope through homeownership with fellow Habitat supporters. Learn more and secure your sponsorship at habitattbg.org/gala.
X-ALT-DESC;FMTTYPE=text/html:Get ready for a night where coastal elegance meets country soul! Join us for an evening blending Nashville spirit with beachside elegance. Enjoy live entertainment\, delicious food and drink\, and hear inspirational stories of hope through homeownership with fellow Habitat supporters. Learn more and secure your sponsorship at habitattbg.org/gala.
LOCATION:Opal Sol on Clearwater Beach 400 Coronado Dr\, Clearwater\, FL 33767
UID:e.3561.30296
SEQUENCE:3
DTSTAMP:20260419T130803Z
URL:https://business.tampabaybeaches.com/events/details/habitat-s-boots-on-the-beach-gala-30296
END:VEVENT

END:VCALENDAR
