BEGIN:VCALENDAR
VERSION:2.0
PRODID:-//ChamberMaster//Event Calendar 2.0//EN
METHOD:PUBLISH
X-PUBLISHED-TTL:P3D
REFRESH-INTERVAL:P3D
CALSCALE:GREGORIAN
BEGIN:VEVENT
DTSTART:20220704T010000Z
DTEND:20220704T030000Z
X-MICROSOFT-CDO-ALLDAYEVENT:FALSE
SUMMARY:Madeira Beach 4th of July Fireworks
DESCRIPTION:Join us for Independence Day Fireworks on July 3\, 2022 at ROC Park. The fireworks will be launched from the Madeira Beach Fundamental School. Parking and viewing is available at 200 Rec Place\, Madeira Beach FL. Parking will not be allowed at the school property due to the required fireworks fallout area. For more information visit contact 727-391-9951.
X-ALT-DESC;FMTTYPE=text/html:<p dir="ltr" style="line-height:1.38\;margin-top:0pt\;margin-bottom:0pt\;"><span style="color: rgb(33\, 33\, 33)\; font-family: &quot\;Public Sans webfont&quot\;\, sans-serif\; font-size: 16px\; font-variant-ligatures: common-ligatures\;">Join us for Independence Day Fireworks on July 3\, 2022 at ROC Park. The fireworks will be launched from the Madeira Beach Fundamental School. Parking and viewing is available at 200 Rec Place\, Madeira Beach FL. Parking will not be allowed at the school property due to the required fireworks fallout area. For more information visit contact 727-391-9951.</span></p>\n
LOCATION:200 Rec Place\, Madeira Beach FL.
UID:e.3561.18770
SEQUENCE:3
DTSTAMP:20260421T102041Z
URL:https://business.tampabaybeaches.com/events/details/madeira-beach-4th-of-july-fireworks-18770
END:VEVENT

END:VCALENDAR
