BEGIN:VCALENDAR
VERSION:2.0
PRODID:-//ChamberMaster//Event Calendar 2.0//EN
METHOD:PUBLISH
X-PUBLISHED-TTL:P3D
REFRESH-INTERVAL:P3D
CALSCALE:GREGORIAN
BEGIN:VEVENT
DTSTART:20260428T130000Z
DTEND:20260428T140000Z
X-MICROSOFT-CDO-ALLDAYEVENT:FALSE
SUMMARY:Madeira Beach Business Meeting
DESCRIPTION:Attention all Madeira Beach Business owners! Hear from your Mayor\, City Manager\, Community Policing and your Chamber of Commerce at the Madeira Beach Business Meeting. \n\n\n\nLearn about upcoming projects\, ask questions\, provide feedback and be included in important conversations that could impact your business.
X-ALT-DESC;FMTTYPE=text/html:<span style="color: rgb(34\, 34\, 34)\; font-family: Arial\, Helvetica\, sans-serif\; font-size: small\;">Attention all Madeira Beach Business owners! Hear from your Mayor\, City Manager\, Community Policing and your Chamber of Commerce at the Madeira Beach Business Meeting.&nbsp\;</span><br style="color: rgb(34\, 34\, 34)\; font-family: Arial\, Helvetica\, sans-serif\; font-size: small\;" />\n<br style="color: rgb(34\, 34\, 34)\; font-family: Arial\, Helvetica\, sans-serif\; font-size: small\;" />\n<span style="color: rgb(34\, 34\, 34)\; font-family: Arial\, Helvetica\, sans-serif\; font-size: small\;">Learn about upcoming projects\, ask questions\, provide feedback and be included in important conversations that could impact your business.</span>
LOCATION:Madeira Beach City Hall - 2nd Floor Commission Chambers 300 Municipal Dr.\, Madeira Beach\, FL 33708
UID:e.3561.30314
SEQUENCE:3
DTSTAMP:20260419T141925Z
URL:https://business.tampabaybeaches.com/events/details/madeira-beach-business-meeting-04-09-2026-30314
END:VEVENT

END:VCALENDAR
