BEGIN:VCALENDAR
VERSION:2.0
PRODID:-//ChamberMaster//Event Calendar 2.0//EN
METHOD:PUBLISH
X-PUBLISHED-TTL:P3D
REFRESH-INTERVAL:P3D
CALSCALE:GREGORIAN
BEGIN:VEVENT
DTSTART:20301009T130000Z
DTEND:20301009T140000Z
X-MICROSOFT-CDO-ALLDAYEVENT:FALSE
SUMMARY:Marketing Committee Meeting
DESCRIPTION:Join us at the Marketing Committee Foundations Group meeting to learn about innovative marketing tactics\, and collaborate with other businesses to share tools and trends. This meeting is intended for beginner to intermediate marketers who are typically not employed in Marketing.\n\n\n\nWe will have guest speaker\, Kerry O'Reilly\, Marketing Director at the Tampa Bay Times\, presenting on how local businesses can get media coverage and tell better stories that catch journalists' attention. Kerry will share insights on what makes a story newsworthy\, how businesses can better pitch their stories to media outlets\, and practical ways to turn everyday business updates into compelling stories that attract attention.
X-ALT-DESC;FMTTYPE=text/html:<span style="color:#000000\;"><span style="font-size:14px\;"><span style="font-family:tahoma\;">Join us at the Marketing Committee <strong>Foundations</strong> Group meeting to learn about innovative marketing tactics\, and collaborate with other businesses to share tools and trends. </span></span></span><span style="color: rgb(34\, 34\, 34)\; font-family: tahoma\; font-size: 14px\;">This meeting is intended for&nbsp\;</span><strong style="color: rgb(34\, 34\, 34)\; font-family: tahoma\; font-size: 14px\;">beginner</strong><span style="color: rgb(34\, 34\, 34)\; font-family: tahoma\; font-size: 14px\;">&nbsp\;to&nbsp\;</span><strong style="color: rgb(34\, 34\, 34)\; font-family: tahoma\; font-size: 14px\;">intermediate</strong><span style="color: rgb(34\, 34\, 34)\; font-family: tahoma\; font-size: 14px\;">&nbsp\;m<wbr />arketers who are typically not employed in Marketing.</span><br />\n<br />\n<strong data-end="298" data-start="280">We will have guest speaker\,&nbsp\;</strong><span class="hover:entity-accent entity-underline inline cursor-pointer align-baseline">Kerry O&#39\;Reilly</span>\, Marketing Director at the <span class="hover:entity-accent entity-underline inline cursor-pointer align-baseline">Tampa Bay Times</span>\, presenting on <strong data-end="524" data-start="419">how local businesses can get media coverage and tell better stories that catch journalists&rsquo\; attention</strong>. Kerry will share insights on what makes a story newsworthy\, how businesses can better pitch their stories to media outlets\, and practical ways to turn everyday business updates into compelling stories that attract attention.
LOCATION:Residence Inn by Marriott St. Petersburg Tierra Verde 214 Madonna Blvd\, Tierra Verde\, FL 33715
UID:e.3561.30391
SEQUENCE:3
DTSTAMP:20260425T125837Z
URL:https://business.tampabaybeaches.com/events/details/marketing-committee-meeting-10-09-2030-30391
END:VEVENT

END:VCALENDAR
