BEGIN:VCALENDAR
VERSION:2.0
PRODID:-//ChamberMaster//Event Calendar 2.0//EN
METHOD:PUBLISH
X-PUBLISHED-TTL:P3D
REFRESH-INTERVAL:P3D
CALSCALE:GREGORIAN
BEGIN:VEVENT
DTSTART:20260503T140000Z
DTEND:20260503T160000Z
X-MICROSOFT-CDO-ALLDAYEVENT:FALSE
SUMMARY:Mommy & Me Princess Tea Party at Great Explorations Children's Museum
DESCRIPTION:Bibbidi Bobbidi Boo! Join us for a magical morning at our Mommy & Me Princess Tea Party on Sunday\, May 3rd\, from 10:00 AM 12:00 PM! Little royals and their grown-ups are invited to step into a fairytale experience filled with enchanting princess interactions\, including story time\, sing-alongs\, and special photo opportunities. Guests will enjoy themed crafts and activities fit for royalty\, whimsical face painting\, and\, of course\, tea service accompanied by delightful small treats. Dress in your royal best and create unforgettable memories together at this charming celebration designed for princesses of all ages.
X-ALT-DESC;FMTTYPE=text/html:Bibbidi Bobbidi Boo! Join us for a magical morning at our Mommy &amp\; Me Princess Tea Party on Sunday\, May 3rd\, from 10:00 AM&ndash\;12:00 PM! Little royals and their grown-ups are invited to step into a fairytale experience filled with enchanting princess interactions\, including story time\, sing-alongs\, and special photo opportunities. Guests will enjoy themed crafts and activities fit for royalty\, whimsical face painting\, and\, of course\, tea service accompanied by delightful small treats. Dress in your royal best and create unforgettable memories together at this charming celebration designed for princesses of all ages.
LOCATION:Great Explorations Children's Museum 1925 4th St N\, St. Petersburg\, FL 33704
UID:e.3561.30930
SEQUENCE:3
DTSTAMP:20260422T185524Z
URL:https://business.tampabaybeaches.com/events/details/mommy-me-princess-tea-party-at-great-explorations-children-s-museum-30930
END:VEVENT

END:VCALENDAR
