BEGIN:VCALENDAR
VERSION:2.0
PRODID:-//ChamberMaster//Event Calendar 2.0//EN
METHOD:PUBLISH
X-PUBLISHED-TTL:P3D
REFRESH-INTERVAL:P3D
CALSCALE:GREGORIAN
BEGIN:VEVENT
DTSTART:20261103T140000Z
DTEND:20261103T150000Z
X-MICROSOFT-CDO-ALLDAYEVENT:FALSE
SUMMARY:St. Pete Beach Business Meeting
DESCRIPTION:Attention all St. Pete Beach Business owners! Hear from your Elected leaders and City Administration and the latest from your Chamber of Commerce at the St. Pete Beach Business Meeting.\n\n\n\nLearn about upcoming projects\, ask questions\, provide feedback and be included in important conversations that could impact your business.
X-ALT-DESC;FMTTYPE=text/html:<p style="color: rgb(34\, 34\, 34)\; font-family: Arial\, Helvetica\, sans-serif\; font-size: small\;"><span style="color: rgb(34\, 34\, 34)\; font-family: Arial\, Helvetica\, sans-serif\; font-size: small\;">Attention all St. Pete Beach&nbsp\;Business owners! Hear from your Elected leaders and City Administration and the latest from your Chamber of Commerce at the St. Pete Beach Business Meeting.</span><br style="color: rgb(34\, 34\, 34)\; font-family: Arial\, Helvetica\, sans-serif\; font-size: small\;" />\n<br style="color: rgb(34\, 34\, 34)\; font-family: Arial\, Helvetica\, sans-serif\; font-size: small\;" />\n<span style="color: rgb(34\, 34\, 34)\; font-family: Arial\, Helvetica\, sans-serif\; font-size: small\;">Learn&nbsp\;about upcoming projects\, ask questions\, provide feedback and be included in important conversations that could impact your business.</span></p>\n
LOCATION:St. Pete Beach City Hall 155 Corey Ave.\, St. Pete Beach\, FL 33706 2nd Floor Conference Room
UID:e.3561.30330
SEQUENCE:3
DTSTAMP:20260423T000100Z
URL:https://business.tampabaybeaches.com/events/details/st-pete-beach-business-meeting-11-03-2026-30330
END:VEVENT

END:VCALENDAR
