BEGIN:VCALENDAR
VERSION:2.0
PRODID:-//ChamberMaster//Event Calendar 2.0//EN
METHOD:PUBLISH
X-PUBLISHED-TTL:P3D
REFRESH-INTERVAL:P3D
CALSCALE:GREGORIAN
BEGIN:VEVENT
DTSTART:20250101T000000Z
DTEND:20250101T010000Z
X-MICROSOFT-CDO-ALLDAYEVENT:FALSE
SUMMARY:Tibetan Tuesdays w/ Our Buds @ The Centre at SPB
DESCRIPTION:Come experience a Tibetan Instrument Therapy with your favorite Flower Bud!\n\nWhat Sound Healing Offers:\n\n  ground & connect the body\n\n  relax the mind\n\n  open & align the chakras\n\n  cleanse the nervous system\n\n  assist in emotional trauma release\n\nWhy does it work?\n\nWhen ancient metals of Tibetan bowls sing with other vibrational sound healing instruments\, they surround the body in gentle healing frequencies that penetrate the tissues while entraining the Brain into deeper stress-relieving mediation. Alpha (8-12hz) ~ Theta (4-8hz) ~ Delta (0.5-4hz) brain waves.\n\nIn this space\, with intentional breathwork and mindset meditation\, deep healing occurs ~ especially when using medicinal medicines.\n\nPLEASE NOTE BringYourOwnBud!! ~ medical card & ID is required if medicating at The Centre St. Pete Beach\n\nThe Human Body is composed of around 70% Water\, making us dominantly Vibrational beings.\n\nCurious how sound affects water?!\n\nCheckout Dr. Masaru Emoto's Water & Sound Vibration experiment HERE.\n\nWhat is the Love Donation?\n\nIn effort to make these Healing Arts available to all\, we accept a sliding scale donation of $30-50 for each individual attending for the 90 minute journey.\n\nFIRST TIMER? Receive Half Off!\n\nEnjoying the Healing? Buy One\, Bring a Friend for   Off!!  Woop wooP\n\nLove Donations are received in Cash\, Venmo\, Zelle\, or at the registration link below.\n\nSpaces Are Limited\, Please Register HERE
X-ALT-DESC;FMTTYPE=text/html:<p><span style="font-size:16px"><strong>Come experience a <em>Tibetan Instrument Therapy</em> with your favorite <em>Flower Bud!</em></strong></span></p>\n\n<p><strong><em>What Sound Healing Offers:</em></strong></p>\n\n<p>&bull\; ground &amp\; connect the body<br />\n&bull\; relax the mind<br />\n&bull\; open &amp\; align the chakras<br />\n&bull\; cleanse the nervous system<br />\n&bull\; assist in emotional trauma release</p>\n\n<p><strong><em>Why does it work?</em></strong></p>\n\n<p>When ancient metals of Tibetan bowls sing with other vibrational sound healing instruments\, they surround the body in gentle healing frequencies that penetrate the tissues while entraining the Brain into deeper stress-relieving mediation. Alpha (8-12hz) ~ Theta (4-8hz) ~ Delta (0.5-4hz) brain waves.</p>\n\n<p>In this space\, with intentional breathwork and mindset meditation\, deep healing occurs ~ especially when using medicinal medicines.<br />\nPLEASE NOTE&nbsp\;BringYourOwnBud!! ~ medical card &amp\; ID is required if medicating at The Centre St. Pete Beach</p>\n\n<p>The Human Body is composed of around 70% Water\, making us dominantly Vibrational beings.<br />\nCurious how sound affects water?!<br />\nCheckout Dr. Masaru Emoto&rsquo\;s Water &amp\; Sound Vibration experiment <a href="https://youtu.be/5cyQVu_8EFc">HERE</a>.</p>\n\n<p><strong><em>What is the Love Donation?</em></strong></p>\n\n<p>In effort to make these Healing Arts available to all\, we accept a sliding scale donation of $30-50 for each individual attending for the 90 minute journey.<br />\nFIRST TIMER? Receive Half Off!<br />\nEnjoying the Healing? Buy One\, Bring a Friend for &frac12\; Off!! &nbsp\;Woop wooP</p>\n\n<p>Love Donations are received in Cash\, Venmo\, Zelle\, or at the registration link below.</p>\n\n<p>Spaces Are Limited\, Please Register <a href="https://PiGMENTSsoundHealingYoga.as.me/TibetanTuesday">HERE</a></p>\n\n<p>&nbsp\;</p>\n
LOCATION:The Centre at St. Pete Beach 7525 Blind Pass Rd. St. Pete Beach\, FL 33706 Building is on the NorthWest corner of Blind Pass Rd & Pasadena shared with the Walgreens parking lot.
UID:e.3561.26395
SEQUENCE:3
DTSTAMP:20260421T103640Z
URL:https://business.tampabaybeaches.com/events/details/tibetan-tuesdays-w-our-buds-the-centre-at-spb-12-31-2024-26395
END:VEVENT

END:VCALENDAR
