BEGIN:VCALENDAR
VERSION:2.0
PRODID:-//ChamberMaster//Event Calendar 2.0//EN
METHOD:PUBLISH
X-PUBLISHED-TTL:P3D
REFRESH-INTERVAL:P3D
CALSCALE:GREGORIAN
BEGIN:VEVENT
DTSTART:20260721T200000Z
DTEND:20260721T210000Z
X-MICROSOFT-CDO-ALLDAYEVENT:FALSE
SUMMARY:Tourism Allies Meeting
DESCRIPTION:
X-ALT-DESC;FMTTYPE=text/html:
LOCATION:TBD
UID:e.3561.30921
SEQUENCE:3
DTSTAMP:20260422T172325Z
URL:https://business.tampabaybeaches.com/events/details/tourism-allies-meeting-07-21-2026-30921
END:VEVENT

END:VCALENDAR
