BEGIN:VCALENDAR
VERSION:2.0
PRODID:-//ChamberMaster//Event Calendar 2.0//EN
METHOD:PUBLISH
X-PUBLISHED-TTL:P3D
REFRESH-INTERVAL:P3D
CALSCALE:GREGORIAN
BEGIN:VEVENT
DTSTART:20261020T133000Z
DTEND:20261020T143000Z
X-MICROSOFT-CDO-ALLDAYEVENT:FALSE
SUMMARY:Tourism Allies Meeting
DESCRIPTION:
X-ALT-DESC;FMTTYPE=text/html:
LOCATION:ZOOM
UID:e.3561.30924
SEQUENCE:3
DTSTAMP:20260422T221421Z
URL:https://business.tampabaybeaches.com/events/details/tourism-allies-meeting-10-20-2026-30924
END:VEVENT

END:VCALENDAR
