BEGIN:VCALENDAR
VERSION:2.0
PRODID:-//ChamberMaster//Event Calendar 2.0//EN
METHOD:PUBLISH
X-PUBLISHED-TTL:P3D
REFRESH-INTERVAL:P3D
CALSCALE:GREGORIAN
BEGIN:VEVENT
DTSTART:20220705T010000Z
DTEND:20220705T020000Z
X-MICROSOFT-CDO-ALLDAYEVENT:FALSE
SUMMARY:Treasure Island 4th of July Fireworks
DESCRIPTION:Celebrate America by watching the city of Treasure Island light up under a spectacular fireworks show on the beach. The celebration will be Monday\, July 4 (rain date July 5) starting at 9 p.m. Fireworks will be shot from the beach near Gulf Front Park\, located at 10400 Gulf Blvd. Bring a beach chair or towel and enjoy the show as fireworks light up the night sky.\n\n\n\nPARKING:\n\nMetered Public Parking Areas in Close Proximity to View the Fireworks:\n\n* Treasure Island Community Center\, One Park Place @ 106th Avenue - metered parking\n\n* St. Petersburg Municipal Beach\, Gulf Boulevard @ 112th Avenue - metered parking\n\n* Gulf Front Park\, 10400 Gulf Boulevard - Metered Parking\n\n* Sandpiper Lot\, Gulf Boulevard at 100th Avenue - metered parking\n\n* Treasure Island City Hall\, 120 108th Avenue - metered parking\n\n\n\nOther Metered Public Parking Areas:\n\n* Heron Lot\, Bay Shore Drive and 75th Avenue\, Sunset Beach\n\n* Tern Lot\, West Gulf Boulevard at 77th to 79th Avenue\, next to Sunset Beach Pavilion\n\n* Ring-Billed Gull Lot\, West Gulf Boulevard at 81st Avenue\, Sunset Beach\n\n* Brown Pelican Lot\, West Gulf Boulevard at 88th Avenue\, Sunset Beach\n\n* Sunset Vista Lot\, 120th Avenue and Gulf Boulevard\, Sunshine Beach\n\n* White Egret Lot\, 126th Avenue\, Sunshine Beach\n\n\n\nFind a list of all metered parking lots by visiting mytreasureisland.com/parking. The Treasure Island Police Department reminds residents and visitors to use crosswalks when crossing Gulf Blvd. or other busy roadways.\n\n\n\nIf you have questions\, you can contact the Parks and Recreation Department at 727-547-4575 ext. 221 or 237 or by email at recreation@mytreasureisland.org
X-ALT-DESC;FMTTYPE=text/html:<span style="color: rgb(34\, 34\, 34)\; font-family: Arial\, Helvetica\, sans-serif\; font-size: small\;">Celebrate America by watching the city of Treasure Island light up under a spectacular fireworks show on the beach. The celebration will be Monday\, July 4 (rain date July 5) starting at 9 p.m. Fireworks will be shot from the beach near Gulf Front Park\, located at 10400 Gulf Blvd. Bring a beach chair or towel and enjoy the show as fireworks light up the night sky.</span><br style="color: rgb(34\, 34\, 34)\; font-family: Arial\, Helvetica\, sans-serif\; font-size: small\;" />\n<br style="color: rgb(34\, 34\, 34)\; font-family: Arial\, Helvetica\, sans-serif\; font-size: small\;" />\n<span style="color: rgb(34\, 34\, 34)\; font-family: Arial\, Helvetica\, sans-serif\; font-size: small\;">PARKING:</span><br style="color: rgb(34\, 34\, 34)\; font-family: Arial\, Helvetica\, sans-serif\; font-size: small\;" />\n<span style="color: rgb(34\, 34\, 34)\; font-family: Arial\, Helvetica\, sans-serif\; font-size: small\;">Metered Public Parking Areas in Close Proximity to View the Fireworks:</span><br style="color: rgb(34\, 34\, 34)\; font-family: Arial\, Helvetica\, sans-serif\; font-size: small\;" />\n<span style="color: rgb(34\, 34\, 34)\; font-family: Arial\, Helvetica\, sans-serif\; font-size: small\;">* Treasure Island Community Center\, One Park Place @ 106th Avenue - metered parking</span><br style="color: rgb(34\, 34\, 34)\; font-family: Arial\, Helvetica\, sans-serif\; font-size: small\;" />\n<span style="color: rgb(34\, 34\, 34)\; font-family: Arial\, Helvetica\, sans-serif\; font-size: small\;">* St. Petersburg Municipal Beach\, Gulf Boulevard @ 112th Avenue - metered parking</span><br style="color: rgb(34\, 34\, 34)\; font-family: Arial\, Helvetica\, sans-serif\; font-size: small\;" />\n<span style="color: rgb(34\, 34\, 34)\; font-family: Arial\, Helvetica\, sans-serif\; font-size: small\;">* Gulf Front Park\, 10400 Gulf Boulevard - Metered Parking</span><br style="color: rgb(34\, 34\, 34)\; font-family: Arial\, Helvetica\, sans-serif\; font-size: small\;" />\n<span style="color: rgb(34\, 34\, 34)\; font-family: Arial\, Helvetica\, sans-serif\; font-size: small\;">* Sandpiper Lot\, Gulf Boulevard at 100th Avenue - metered parking</span><br style="color: rgb(34\, 34\, 34)\; font-family: Arial\, Helvetica\, sans-serif\; font-size: small\;" />\n<span style="color: rgb(34\, 34\, 34)\; font-family: Arial\, Helvetica\, sans-serif\; font-size: small\;">* Treasure Island City Hall\, 120 108th Avenue - metered parking</span><br style="color: rgb(34\, 34\, 34)\; font-family: Arial\, Helvetica\, sans-serif\; font-size: small\;" />\n<br style="color: rgb(34\, 34\, 34)\; font-family: Arial\, Helvetica\, sans-serif\; font-size: small\;" />\n<span style="color: rgb(34\, 34\, 34)\; font-family: Arial\, Helvetica\, sans-serif\; font-size: small\;">Other Metered Public Parking Areas:</span><br style="color: rgb(34\, 34\, 34)\; font-family: Arial\, Helvetica\, sans-serif\; font-size: small\;" />\n<span style="color: rgb(34\, 34\, 34)\; font-family: Arial\, Helvetica\, sans-serif\; font-size: small\;">* Heron Lot\, Bay Shore Drive and 75th Avenue\, Sunset Beach</span><br style="color: rgb(34\, 34\, 34)\; font-family: Arial\, Helvetica\, sans-serif\; font-size: small\;" />\n<span style="color: rgb(34\, 34\, 34)\; font-family: Arial\, Helvetica\, sans-serif\; font-size: small\;">* Tern Lot\, West Gulf Boulevard at 77th to 79th Avenue\, next to Sunset Beach Pavilion</span><br style="color: rgb(34\, 34\, 34)\; font-family: Arial\, Helvetica\, sans-serif\; font-size: small\;" />\n<span style="color: rgb(34\, 34\, 34)\; font-family: Arial\, Helvetica\, sans-serif\; font-size: small\;">* Ring-Billed Gull Lot\, West Gulf Boulevard at 81st Avenue\, Sunset Beach</span><br style="color: rgb(34\, 34\, 34)\; font-family: Arial\, Helvetica\, sans-serif\; font-size: small\;" />\n<span style="color: rgb(34\, 34\, 34)\; font-family: Arial\, Helvetica\, sans-serif\; font-size: small\;">* Brown Pelican Lot\, West Gulf Boulevard at 88th Avenue\, Sunset Beach</span><br style="color: rgb(34\, 34\, 34)\; font-family: Arial\, Helvetica\, sans-serif\; font-size: small\;" />\n<span style="color: rgb(34\, 34\, 34)\; font-family: Arial\, Helvetica\, sans-serif\; font-size: small\;">* Sunset Vista Lot\, 120th Avenue and Gulf Boulevard\, Sunshine Beach</span><br style="color: rgb(34\, 34\, 34)\; font-family: Arial\, Helvetica\, sans-serif\; font-size: small\;" />\n<span style="color: rgb(34\, 34\, 34)\; font-family: Arial\, Helvetica\, sans-serif\; font-size: small\;">* White Egret Lot\, 126th Avenue\, Sunshine Beach</span><br style="color: rgb(34\, 34\, 34)\; font-family: Arial\, Helvetica\, sans-serif\; font-size: small\;" />\n<br style="color: rgb(34\, 34\, 34)\; font-family: Arial\, Helvetica\, sans-serif\; font-size: small\;" />\n<span style="color: rgb(34\, 34\, 34)\; font-family: Arial\, Helvetica\, sans-serif\; font-size: small\;">Find a list of all metered parking lots by visiting&nbsp\;<a data-saferedirecturl="https://www.google.com/url?q=http://mytreasureisland.com/parking&amp\;source=gmail&amp\;ust=1656423823497000&amp\;usg=AOvVaw1kPA0wwTvvtx2W5AIg9clX" href="http://mytreasureisland.com/parking" style="color: rgb(17\, 85\, 204)\;" target="_blank">mytreasureisland.com/parking</a>. The Treasure Island Police Department reminds residents and visitors to use crosswalks when crossing Gulf Blvd. or other busy roadways.</span><br style="color: rgb(34\, 34\, 34)\; font-family: Arial\, Helvetica\, sans-serif\; font-size: small\;" />\n<br style="color: rgb(34\, 34\, 34)\; font-family: Arial\, Helvetica\, sans-serif\; font-size: small\;" />\n<span style="color: rgb(34\, 34\, 34)\; font-family: Arial\, Helvetica\, sans-serif\; font-size: small\;">If you have questions\, you can contact the Parks and Recreation Department at 727-547-4575 ext. 221 or 237 or by email at&nbsp\;<a href="mailto:recreation@mytreasureisland.org" style="color: rgb(17\, 85\, 204)\;" target="_blank">recreation@mytreasureisland.<wbr />org</a></span>
LOCATION:10400 Gulf Blvd
UID:e.3561.18769
SEQUENCE:3
DTSTAMP:20260424T185213Z
URL:https://business.tampabaybeaches.com/events/details/treasure-island-4th-of-july-fireworks-18769
END:VEVENT

END:VCALENDAR
