BEGIN:VCALENDAR
VERSION:2.0
PRODID:-//ChamberMaster//Event Calendar 2.0//EN
METHOD:PUBLISH
X-PUBLISHED-TTL:P3D
REFRESH-INTERVAL:P3D
CALSCALE:GREGORIAN
BEGIN:VEVENT
DTSTART:20220203T220000Z
DTEND:20220204T003000Z
X-MICROSOFT-CDO-ALLDAYEVENT:FALSE
SUMMARY:2022 Business Expo
DESCRIPTION:Businesses will be the centerpiece at the Tampa Bay Beaches Chamber of Commerce Annual Meeting. There is still an opportunity to feature your business at the events Business Expo! Secure your space and get in front of decision makers across the Tampa Bay Beaches.\n\nThis is a great way to show off products and services to local business owners\, community leaders and executives.\n\n5:00pm - Expo | 6:30pm - Annual Meeting Program\n\n\n\nEXPO PARTICIPANT PRICING:\n\n$225.00 Members (includes one entry to Annual Meeting)\n\n$525.00 Non Members (includes one entry to Annual Meeting)\n\n\n\nTickets for the Annual Meeting may be purchased HERE.\n\n \n\nCall 727-360-6957 or Email Info@TampaBayBeaches.com for more information.
X-ALT-DESC;FMTTYPE=text/html:<p><span style="font-size:16px\;"><span style="font-family:tahoma\;">Businesses will be the centerpiece at the Tampa Bay Beaches Chamber of Commerce Annual Meeting. There is still an opportunity to feature your business at the events Business Expo!&nbsp\;Secure your space and get in front of decision makers across the Tampa Bay Beaches.<br />\nThis is a great way to show off products and services to local business owners\, community leaders and executives.</span></span></p>\n\n<p><span style="color:#000000\;"><span style="font-family:tahoma\;"><span style="font-size:16px"><strong>5:00pm - Expo | 6:30pm - Annual Meeting Program</strong></span><br />\n<br />\n<span style="font-size: medium\;"><strong>EXPO PARTICIPANT PRICING:</strong><br />\n$225.00 Members (includes one entry to Annual Meeting)<br />\n$525.00 Non Members&nbsp\;</span></span><span style="font-family: tahoma\; font-size: medium\;">(includes one entry to Annual Meeting)</span></span><br />\n<br />\n<span style="font-family:tahoma\;"><span style="font-size:16px"><span style="color:#000000\;">Tickets for the Annual Meeting&nbsp\;may be purchased </span><a href="https://business.tampabaybeaches.com/events/details/2022-annual-meeting-14919"><span style="color:#000000\;"><u><strong>HERE</strong></u></span></a><span style="color:#000000\;">.</span></span></span><br />\n&nbsp\;</p>\n\n<p><span style="font-family:tahoma\;"><span style="font-size: medium\;"><span style="color:#000000\;">Call 727-360-6957 or Email </span><a href="mailto:info@tampabaybeaches.com"><span style="color:#000000\;">Info@TampaBayBeache</span></a></span><a href="mailto:info@tampabaybeaches.com"><span style="color:#000000\;"><span style="font-size: medium\;">s.com</span></span></a><span style="color:#000000\;"><span style="font-size: medium\;"> for more information.</span></span></span></p>\n
LOCATION:TradeWinds Island Grand Resort
UID:e.3561.15663
SEQUENCE:3
DTSTAMP:20260424T075902Z
URL:https://business.tampabaybeaches.com/events/details/2022-business-expo-15663
END:VEVENT

END:VCALENDAR
